BEGIN:VCALENDAR
VERSION:2.0
PRODID:-//American Vision Windows of Arizona - ECPv6.15.20//NONSGML v1.0//EN
CALSCALE:GREGORIAN
METHOD:PUBLISH
X-WR-CALNAME:American Vision Windows of Arizona
X-ORIGINAL-URL:https://americanvisionwindowsaz.com
X-WR-CALDESC:Events for American Vision Windows of Arizona
REFRESH-INTERVAL;VALUE=DURATION:PT1H
X-Robots-Tag:noindex
X-PUBLISHED-TTL:PT1H
BEGIN:VTIMEZONE
TZID:America/Phoenix
BEGIN:STANDARD
TZOFFSETFROM:-0700
TZOFFSETTO:-0700
TZNAME:MST
DTSTART:20250101T000000
END:STANDARD
END:VTIMEZONE
BEGIN:VEVENT
DTSTART;VALUE=DATE:20260831
DTEND;VALUE=DATE:20260902
DTSTAMP:20260423T172702
CREATED:20260119T041735Z
LAST-MODIFIED:20260119T041735Z
UID:3593-1788134400-1788307199@americanvisionwindowsaz.com
SUMMARY:Flagstaff Art in the Park
DESCRIPTION:
URL:https://americanvisionwindowsaz.com/event/flagstaff-art-in-the-park-2/
LOCATION:Wheeler Park\, 212 W Aspen Ave\, Flagstaff\, AZ\, 86001\, United States
END:VEVENT
END:VCALENDAR