BEGIN:VCALENDAR
VERSION:2.0
PRODID:-//American Vision Windows of Arizona - ECPv6.15.20//NONSGML v1.0//EN
CALSCALE:GREGORIAN
METHOD:PUBLISH
X-ORIGINAL-URL:https://americanvisionwindowsaz.com
X-WR-CALDESC:Events for American Vision Windows of Arizona
REFRESH-INTERVAL;VALUE=DURATION:PT1H
X-Robots-Tag:noindex
X-PUBLISHED-TTL:PT1H
BEGIN:VTIMEZONE
TZID:America/Phoenix
BEGIN:STANDARD
TZOFFSETFROM:-0700
TZOFFSETTO:-0700
TZNAME:MST
DTSTART:20250101T000000
END:STANDARD
END:VTIMEZONE
BEGIN:VEVENT
DTSTART;VALUE=DATE:20260606
DTEND;VALUE=DATE:20260607
DTSTAMP:20260423T143156
CREATED:20260119T040946Z
LAST-MODIFIED:20260119T040946Z
UID:3582-1780704000-1780790399@americanvisionwindowsaz.com
SUMMARY:Home and Landscape Show
DESCRIPTION:
URL:https://americanvisionwindowsaz.com/event/home-and-landscape-show-2/
LOCATION:DoubleTree Gilbert\, 1800 S Santan Village Pkwy\, Gilbert\, AZ\, 85295\, United States
END:VEVENT
END:VCALENDAR