BEGIN:VCALENDAR
VERSION:2.0
PRODID:-//American Vision Windows of Arizona - ECPv6.15.20//NONSGML v1.0//EN
CALSCALE:GREGORIAN
METHOD:PUBLISH
X-ORIGINAL-URL:https://americanvisionwindowsaz.com
X-WR-CALDESC:Events for American Vision Windows of Arizona
REFRESH-INTERVAL;VALUE=DURATION:PT1H
X-Robots-Tag:noindex
X-PUBLISHED-TTL:PT1H
BEGIN:VTIMEZONE
TZID:America/Phoenix
BEGIN:STANDARD
TZOFFSETFROM:-0700
TZOFFSETTO:-0700
TZNAME:MST
DTSTART:20250101T000000
END:STANDARD
END:VTIMEZONE
BEGIN:VEVENT
DTSTART;VALUE=DATE:20260109
DTEND;VALUE=DATE:20260112
DTSTAMP:20260423T102423
CREATED:20260119T032228Z
LAST-MODIFIED:20260119T032228Z
UID:3544-1767916800-1768175999@americanvisionwindowsaz.com
SUMMARY:Maracopa County Home and Garden
DESCRIPTION:
URL:https://americanvisionwindowsaz.com/event/maracopa-county-home-and-garden/
LOCATION:Maracopa County\, 1826 W. McDowell Rd\, AZ\, 85007\, United States
END:VEVENT
END:VCALENDAR